Workbook

Sheet ISOCOM_1IT - 2023
B1: ISOCOM_1IT - Iniziative e prodotti di comunicazione, informazione e visibilità realizzati | C1: 2023
A2: AZIONE/STRUMENTO | B2: INDCATORE DI OUTPUT | C2: GEN | D2: FEB | E2: MAR | F2: APR | G2: MAG | H2: GIU | I2: LUG | J2: AGO | K2: SETT | L2: OTT | M2: NOV | N2: DIC | O2: TOT
A3: Campagne di comunicazione realizzate | B3: n. di campagne prodotte | O3: =SUM(Tabella24[[#This Row],[GEN]:[DIC]]) -> 0
A4: Campagne stampa | B4: n. di publiredazionali | O4: =SUM(Tabella24[[#This Row],[GEN]:[DIC]]) -> 0
A5: Campagne di web e digital PR | B5: n. di campagne prodotte | O5: =SUM(Tabella24[[#This Row],[GEN]:[DIC]]) -> 0
A6: Eventi | B6: n. di eventi | O6: =SUM(Tabella24[[#This Row],[GEN]:[DIC]]) -> 0
A7: Seminari e workshop e webinar | B7: n. di seminari, workshop e webinar | O7: =SUM(Tabella24[[#This Row],[GEN]:[DIC]]) -> 0
A8: Attività itineranti | B8: n. di roadshow itineranti | O8: =SUM(Tabella24[[#This Row],[GEN]:[DIC]]) -> 0
A9: Web | B9: n. pagine news web pubblicate su sito del Programma | O9: =SUM(Tabella24[[#This Row],[GEN]:[DIC]]) -> 0
A10: Social media | B10: n. di account attivati o utilizzati | O10: =SUM(Tabella24[[#This Row],[GEN]:[DIC]]) -> 0
A11: Social media | B11: n. di messaggi inviati sui diversi canali social (post FB + Tweet + Post IG + Stories) | O11: =SUM(Tabella24[[#This Row],[GEN]:[DIC]]) -> 0
A12: Materiali informativi, editoriali, promozionali | B12: n. di prodotti realizzati (opuscoli, brochure, pubblicazioni…) | O12: =SUM(Tabella24[[#This Row],[GEN]:[DIC]]) -> 0
A13: Prodotti audio-video e multimediali | B13: n. di video realizzati | O13: =SUM(Tabella24[[#This Row],[GEN]:[DIC]]) -> 0
A14: Prodotti audio-video e multimediali | B14: n. di spot radio prodotti | O14: =SUM(Tabella24[[#This Row],[GEN]:[DIC]]) -> 0
... A18: Relazioni con la stampa | B18: n. di conferenze stampa realizzate | O18: =SUM(Tabella24[[#This Row],[GEN]:[DIC]]) -> 0
C19: =SUBTOTAL(109,Tabella24[GEN]) -> 0 | D19: =SUBTOTAL(109,Tabella24[FEB]) -> 0 | E19: =SUBTOTAL(109,Tabella24[MAR]) -> 0 | F19: =SUBTOTAL(109,Tabella24[APR]) -> 0 | G19: =SUBTOTAL(109,Tabella24[MAG]) -> 0 | H19: =SUBTOTAL(109,Tabella24[GIU]) -> 0 | I19: =SUBTOTAL(109,Tabella24[LUG]) -> 0 | J19: =SUBTOTAL(109,Tabella24[AGO]) -> 0 | K19: =SUBTOTAL(109,Tabella24[SETT]) -> 0 | L19: =SUBTOTAL(109,Tabella24[OTT]) -> 0 | M19: =SUBTOTAL(109,Tabella24[NOV]) -> 0 | N19: =SUBTOTAL(109,Tabella24[DIC]) -> 0 | P19: =SUM(Tabella24[[#Totals],[GEN]:[DIC]]) -> 0

Sheet ISOCOM_1IT - 2024
B1: ISOCOM_1IT - Iniziative e prodotti di comunicazione, informazione e visibilità realizzati | C1: 2024
A2: AZIONE/STRUMENTO | B2: INDCATORE DI OUTPUT | C2: GEN | D2: FEB | E2: MAR | F2: APR | G2: MAG | H2: GIU | I2: LUG | J2: AGO | K2: SETT | L2: OTT | M2: NOV | N2: DIC | O2: TOT
A3: Campagne di comunicazione realizzate | B3: n. di campagne prodotte | O3: =SUM(Tabella2410[[#This Row],[GEN]:[DIC]]) -> 0
A4: Campagne stampa | B4: n. di publiredazionali | O4: =SUM(Tabella2410[[#This Row],[GEN]:[DIC]]) -> 0
A5: Campagne di web e digital PR | B5: n. di campagne prodotte | O5: =SUM(Tabella2410[[#This Row],[GEN]:[DIC]]) -> 0
A6: Eventi | B6: n. di eventi | O6: =SUM(Tabella2410[[#This Row],[GEN]:[DIC]]) -> 0
A7: Seminari e workshop e webinar | B7: n. di seminari, workshop e webinar | O7: =SUM(Tabella2410[[#This Row],[GEN]:[DIC]]) -> 0
A8: Attività itineranti | B8: n. di roadshow itineranti | O8: =SUM(Tabella2410[[#This Row],[GEN]:[DIC]]) -> 0
A9: Web | B9: n. pagine news web pubblicate su sito del Programma | O9: =SUM(Tabella2410[[#This Row],[GEN]:[DIC]]) -> 0
A10: Social media | B10: n. di account attivati o utilizzati | O10: =SUM(Tabella2410[[#This Row],[GEN]:[DIC]]) -> 0
A11: Social media | B11: n. di messaggi inviati sui diversi canali social (post FB + Tweet + Post IG + Stories) | O11: =SUM(Tabella2410[[#This Row],[GEN]:[DIC]]) -> 0
A12: Materiali informativi, editoriali, promozionali | B12: n. di prodotti realizzati (opuscoli, brochure, pubblicazioni…) | O12: =SUM(Tabella2410[[#This Row],[GEN]:[DIC]]) -> 0
A13: Prodotti audio-video e multimediali | B13: n. di video realizzati | O13: =SUM(Tabella2410[[#This Row],[GEN]:[DIC]]) -> 0
A14: Prodotti audio-video e multimediali | B14: n. di spot radio prodotti | O14: =SUM(Tabella2410[[#This Row],[GEN]:[DIC]]) -> 0
... A18: Relazioni con la stampa | B18: n. di conferenze stampa realizzate | O18: =SUM(Tabella2410[[#This Row],[GEN]:[DIC]]) -> 0
C19: =SUBTOTAL(109,Tabella2410[GEN]) -> 0 | D19: =SUBTOTAL(109,Tabella2410[FEB]) -> 0 | E19: =SUBTOTAL(109,Tabella2410[MAR]) -> 0 | F19: =SUBTOTAL(109,Tabella2410[APR]) -> 0 | G19: =SUBTOTAL(109,Tabella2410[MAG]) -> 0 | H19: =SUBTOTAL(109,Tabella2410[GIU]) -> 0 | I19: =SUBTOTAL(109,Tabella2410[LUG]) -> 0 | J19: =SUBTOTAL(109,Tabella2410[AGO]) -> 0 | K19: =SUBTOTAL(109,Tabella2410[SETT]) -> 0 | L19: =SUBTOTAL(109,Tabella2410[OTT]) -> 0 | M19: =SUBTOTAL(109,Tabella2410[NOV]) -> 0 | N19: =SUBTOTAL(109,Tabella2410[DIC]) -> 0 | P19: =SUM(Tabella2410[[#Totals],[GEN]:[DIC]]) -> 0

Sheet ISOCOM_1IT - 2025
B1: ISOCOM_1IT - Iniziative e prodotti di comunicazione, informazione e visibilità realizzati | C1: 2025
A2: AZIONE/STRUMENTO | B2: INDCATORE DI OUTPUT | C2: GEN | D2: FEB | E2: MAR | F2: APR | G2: MAG | H2: GIU | I2: LUG | J2: AGO | K2: SETT | L2: OTT | M2: NOV | N2: DIC | O2: TOT
A3: Campagne di comunicazione realizzate | B3: n. di campagne prodotte | O3: =SUM(Tabella241011[[#This Row],[GEN]:[DIC]]) -> 0
A4: Campagne stampa | B4: n. di publiredazionali | O4: =SUM(Tabella241011[[#This Row],[GEN]:[DIC]]) -> 0
A5: Campagne di web e digital PR | B5: n. di campagne prodotte | O5: =SUM(Tabella241011[[#This Row],[GEN]:[DIC]]) -> 0
A6: Eventi | B6: n. di eventi | O6: =SUM(Tabella241011[[#This Row],[GEN]:[DIC]]) -> 0
A7: Seminari e workshop e webinar | B7: n. di seminari, workshop e webinar | O7: =SUM(Tabella241011[[#This Row],[GEN]:[DIC]]) -> 0
A8: Attività itineranti | B8: n. di roadshow itineranti | O8: =SUM(Tabella241011[[#This Row],[GEN]:[DIC]]) -> 0
A9: Web | B9: n. pagine news web pubblicate su sito del Programma | O9: =SUM(Tabella241011[[#This Row],[GEN]:[DIC]]) -> 0
A10: Social media | B10: n. di account attivati o utilizzati | O10: =SUM(Tabella241011[[#This Row],[GEN]:[DIC]]) -> 0
A11: Social media | B11: n. di messaggi inviati sui diversi canali social (post FB + Tweet + Post IG + Stories) | O11: =SUM(Tabella241011[[#This Row],[GEN]:[DIC]]) -> 0
A12: Materiali informativi, editoriali, promozionali | B12: n. di prodotti realizzati (opuscoli, brochure, pubblicazioni…) | O12: =SUM(Tabella241011[[#This Row],[GEN]:[DIC]]) -> 0
A13: Prodotti audio-video e multimediali | B13: n. di video realizzati | O13: =SUM(Tabella241011[[#This Row],[GEN]:[DIC]]) -> 0
A14: Prodotti audio-video e multimediali | B14: n. di spot radio prodotti | O14: =SUM(Tabella241011[[#This Row],[GEN]:[DIC]]) -> 0
... A18: Relazioni con la stampa | B18: n. di conferenze stampa realizzate | O18: =SUM(Tabella241011[[#This Row],[GEN]:[DIC]]) -> 0
C19: =SUBTOTAL(109,Tabella241011[GEN]) -> 0 | D19: =SUBTOTAL(109,Tabella241011[FEB]) -> 0 | E19: =SUBTOTAL(109,Tabella241011[MAR]) -> 0 | F19: =SUBTOTAL(109,Tabella241011[APR]) -> 0 | G19: =SUBTOTAL(109,Tabella241011[MAG]) -> 0 | H19: =SUBTOTAL(109,Tabella241011[GIU]) -> 0 | I19: =SUBTOTAL(109,Tabella241011[LUG]) -> 0 | J19: =SUBTOTAL(109,Tabella241011[AGO]) -> 0 | K19: =SUBTOTAL(109,Tabella241011[SETT]) -> 0 | L19: =SUBTOTAL(109,Tabella241011[OTT]) -> 0 | M19: =SUBTOTAL(109,Tabella241011[NOV]) -> 0 | N19: =SUBTOTAL(109,Tabella241011[DIC]) -> 0 | P19: =SUM(Tabella241011[[#Totals],[GEN]:[DIC]]) -> 0

Sheet ISOCOM_1IT - 2026
B1: ISOCOM_1IT - Iniziative e prodotti di comunicazione, informazione e visibilità realizzati | C1: 2026
A2: AZIONE/STRUMENTO | B2: INDCATORE DI OUTPUT | C2: GEN | D2: FEB | E2: MAR | F2: APR | G2: MAG | H2: GIU | I2: LUG | J2: AGO | K2: SETT | L2: OTT | M2: NOV | N2: DIC | O2: TOT
A3: Campagne di comunicazione realizzate | B3: n. di campagne prodotte | O3: =SUM(Tabella24101112[[#This Row],[GEN]:[DIC]]) -> 0
A4: Campagne stampa | B4: n. di publiredazionali | O4: =SUM(Tabella24101112[[#This Row],[GEN]:[DIC]]) -> 0
A5: Campagne di web e digital PR | B5: n. di campagne prodotte | O5: =SUM(Tabella24101112[[#This Row],[GEN]:[DIC]]) -> 0
A6: Eventi | B6: n. di eventi | O6: =SUM(Tabella24101112[[#This Row],[GEN]:[DIC]]) -> 0
A7: Seminari e workshop e webinar | B7: n. di seminari, workshop e webinar | O7: =SUM(Tabella24101112[[#This Row],[GEN]:[DIC]]) -> 0
A8: Attività itineranti | B8: n. di roadshow itineranti | O8: =SUM(Tabella24101112[[#This Row],[GEN]:[DIC]]) -> 0
A9: Web | B9: n. pagine news web pubblicate su sito del Programma | O9: =SUM(Tabella24101112[[#This Row],[GEN]:[DIC]]) -> 0
A10: Social media | B10: n. di account attivati o utilizzati | O10: =SUM(Tabella24101112[[#This Row],[GEN]:[DIC]]) -> 0
A11: Social media | B11: n. di messaggi inviati sui diversi canali social (post FB + Tweet + Post IG + Stories) | O11: =SUM(Tabella24101112[[#This Row],[GEN]:[DIC]]) -> 0
A12: Materiali informativi, editoriali, promozionali | B12: n. di prodotti realizzati (opuscoli, brochure, pubblicazioni…) | O12: =SUM(Tabella24101112[[#This Row],[GEN]:[DIC]]) -> 0
A13: Prodotti audio-video e multimediali | B13: n. di video realizzati | O13: =SUM(Tabella24101112[[#This Row],[GEN]:[DIC]]) -> 0
A14: Prodotti audio-video e multimediali | B14: n. di spot radio prodotti | O14: =SUM(Tabella24101112[[#This Row],[GEN]:[DIC]]) -> 0
... A18: Relazioni con la stampa | B18: n. di conferenze stampa realizzate | O18: =SUM(Tabella24101112[[#This Row],[GEN]:[DIC]]) -> 0
C19: =SUBTOTAL(109,Tabella24101112[GEN]) -> 0 | D19: =SUBTOTAL(109,Tabella24101112[FEB]) -> 0 | E19: =SUBTOTAL(109,Tabella24101112[MAR]) -> 0 | F19: =SUBTOTAL(109,Tabella24101112[APR]) -> 0 | G19: =SUBTOTAL(109,Tabella24101112[MAG]) -> 0 | H19: =SUBTOTAL(109,Tabella24101112[GIU]) -> 0 | I19: =SUBTOTAL(109,Tabella24101112[LUG]) -> 0 | J19: =SUBTOTAL(109,Tabella24101112[AGO]) -> 0 | K19: =SUBTOTAL(109,Tabella24101112[SETT]) -> 0 | L19: =SUBTOTAL(109,Tabella24101112[OTT]) -> 0 | M19: =SUBTOTAL(109,Tabella24101112[NOV]) -> 0 | N19: =SUBTOTAL(109,Tabella24101112[DIC]) -> 0 | P19: =SUM(Tabella24101112[[#Totals],[GEN]:[DIC]]) -> 0

Sheet ISOCOM_1IT - 2027
B1: ISOCOM_1IT - Iniziative e prodotti di comunicazione, informazione e visibilità realizzati | C1: 2027
A2: AZIONE/STRUMENTO | B2: INDCATORE DI OUTPUT | C2: GEN | D2: FEB | E2: MAR | F2: APR | G2: MAG | H2: GIU | I2: LUG | J2: AGO | K2: SETT | L2: OTT | M2: NOV | N2: DIC | O2: TOT
A3: Campagne di comunicazione realizzate | B3: n. di campagne prodotte | O3: =SUM(Tabella2410111213[[#This Row],[GEN]:[DIC]]) -> 0
A4: Campagne stampa | B4: n. di publiredazionali | O4: =SUM(Tabella2410111213[[#This Row],[GEN]:[DIC]]) -> 0
A5: Campagne di web e digital PR | B5: n. di campagne prodotte | O5: =SUM(Tabella2410111213[[#This Row],[GEN]:[DIC]]) -> 0
A6: Eventi | B6: n. di eventi | O6: =SUM(Tabella2410111213[[#This Row],[GEN]:[DIC]]) -> 0
A7: Seminari e workshop e webinar | B7: n. di seminari, workshop e webinar | O7: =SUM(Tabella2410111213[[#This Row],[GEN]:[DIC]]) -> 0
A8: Attività itineranti | B8: n. di roadshow itineranti | O8: =SUM(Tabella2410111213[[#This Row],[GEN]:[DIC]]) -> 0
A9: Web | B9: n. pagine news web pubblicate su sito del Programma | O9: =SUM(Tabella2410111213[[#This Row],[GEN]:[DIC]]) -> 0
A10: Social media | B10: n. di account attivati o utilizzati | O10: =SUM(Tabella2410111213[[#This Row],[GEN]:[DIC]]) -> 0
A11: Social media | B11: n. di messaggi inviati sui diversi canali social (post FB + Tweet + Post IG + Stories) | O11: =SUM(Tabella2410111213[[#This Row],[GEN]:[DIC]]) -> 0
A12: Materiali informativi, editoriali, promozionali | B12: n. di prodotti realizzati (opuscoli, brochure, pubblicazioni…) | O12: =SUM(Tabella2410111213[[#This Row],[GEN]:[DIC]]) -> 0
A13: Prodotti audio-video e multimediali | B13: n. di video realizzati | O13: =SUM(Tabella2410111213[[#This Row],[GEN]:[DIC]]) -> 0
A14: Prodotti audio-video e multimediali | B14: n. di spot radio prodotti | O14: =SUM(Tabella2410111213[[#This Row],[GEN]:[DIC]]) -> 0
... A18: Relazioni con la stampa | B18: n. di conferenze stampa realizzate | O18: =SUM(Tabella2410111213[[#This Row],[GEN]:[DIC]]) -> 0
C19: =SUBTOTAL(109,Tabella2410111213[GEN]) -> 0 | D19: =SUBTOTAL(109,Tabella2410111213[FEB]) -> 0 | E19: =SUBTOTAL(109,Tabella2410111213[MAR]) -> 0 | F19: =SUBTOTAL(109,Tabella2410111213[APR]) -> 0 | G19: =SUBTOTAL(109,Tabella2410111213[MAG]) -> 0 | H19: =SUBTOTAL(109,Tabella2410111213[GIU]) -> 0 | I19: =SUBTOTAL(109,Tabella2410111213[LUG]) -> 0 | J19: =SUBTOTAL(109,Tabella2410111213[AGO]) -> 0 | K19: =SUBTOTAL(109,Tabella2410111213[SETT]) -> 0 | L19: =SUBTOTAL(109,Tabella2410111213[OTT]) -> 0 | M19: =SUBTOTAL(109,Tabella2410111213[NOV]) -> 0 | N19: =SUBTOTAL(109,Tabella2410111213[DIC]) -> 0 | P19: =SUM(Tabella2410111213[[#Totals],[GEN]:[DIC]]) -> 0

Sheet ISOCOM_1IT - 2028
B1: ISOCOM_1IT - Iniziative e prodotti di comunicazione, informazione e visibilità realizzati | C1: 2028
A2: AZIONE/STRUMENTO | B2: INDCATORE DI OUTPUT | C2: GEN | D2: FEB | E2: MAR | F2: APR | G2: MAG | H2: GIU | I2: LUG | J2: AGO | K2: SETT | L2: OTT | M2: NOV | N2: DIC | O2: TOT
A3: Campagne di comunicazione realizzate | B3: n. di campagne prodotte | O3: =SUM(Tabella241011121314[[#This Row],[GEN]:[DIC]]) -> 0
A4: Campagne stampa | B4: n. di publiredazionali | O4: =SUM(Tabella241011121314[[#This Row],[GEN]:[DIC]]) -> 0
A5: Campagne di web e digital PR | B5: n. di campagne prodotte | O5: =SUM(Tabella241011121314[[#This Row],[GEN]:[DIC]]) -> 0
A6: Eventi | B6: n. di eventi | O6: =SUM(Tabella241011121314[[#This Row],[GEN]:[DIC]]) -> 0
A7: Seminari e workshop e webinar | B7: n. di seminari, workshop e webinar | O7: =SUM(Tabella241011121314[[#This Row],[GEN]:[DIC]]) -> 0
A8: Attività itineranti | B8: n. di roadshow itineranti | O8: =SUM(Tabella241011121314[[#This Row],[GEN]:[DIC]]) -> 0
A9: Web | B9: n. pagine news web pubblicate su sito del Programma | O9: =SUM(Tabella241011121314[[#This Row],[GEN]:[DIC]]) -> 0
A10: Social media | B10: n. di account attivati o utilizzati | O10: =SUM(Tabella241011121314[[#This Row],[GEN]:[DIC]]) -> 0
A11: Social media | B11: n. di messaggi inviati sui diversi canali social (post FB + Tweet + Post IG + Stories) | O11: =SUM(Tabella241011121314[[#This Row],[GEN]:[DIC]]) -> 0
A12: Materiali informativi, editoriali, promozionali | B12: n. di prodotti realizzati (opuscoli, brochure, pubblicazioni…) | O12: =SUM(Tabella241011121314[[#This Row],[GEN]:[DIC]]) -> 0
A13: Prodotti audio-video e multimediali | B13: n. di video realizzati | O13: =SUM(Tabella241011121314[[#This Row],[GEN]:[DIC]]) -> 0
A14: Prodotti audio-video e multimediali | B14: n. di spot radio prodotti | O14: =SUM(Tabella241011121314[[#This Row],[GEN]:[DIC]]) -> 0
... A18: Relazioni con la stampa | B18: n. di conferenze stampa realizzate | O18: =SUM(Tabella241011121314[[#This Row],[GEN]:[DIC]]) -> 0
C19: =SUBTOTAL(109,Tabella241011121314[GEN]) -> 0 | D19: =SUBTOTAL(109,Tabella241011121314[FEB]) -> 0 | E19: =SUBTOTAL(109,Tabella241011121314[MAR]) -> 0 | F19: =SUBTOTAL(109,Tabella241011121314[APR]) -> 0 | G19: =SUBTOTAL(109,Tabella241011121314[MAG]) -> 0 | H19: =SUBTOTAL(109,Tabella241011121314[GIU]) -> 0 | I19: =SUBTOTAL(109,Tabella241011121314[LUG]) -> 0 | J19: =SUBTOTAL(109,Tabella241011121314[AGO]) -> 0 | K19: =SUBTOTAL(109,Tabella241011121314[SETT]) -> 0 | L19: =SUBTOTAL(109,Tabella241011121314[OTT]) -> 0 | M19: =SUBTOTAL(109,Tabella241011121314[NOV]) -> 0 | N19: =SUBTOTAL(109,Tabella241011121314[DIC]) -> 0 | P19: =SUM(Tabella241011121314[[#Totals],[GEN]:[DIC]]) -> 0

Sheet ISOCOM_1IT - 2029
B1: ISOCOM_1IT - Iniziative e prodotti di comunicazione, informazione e visibilità realizzati | C1: 2029
A2: AZIONE/STRUMENTO | B2: INDCATORE DI OUTPUT | C2: GEN | D2: FEB | E2: MAR | F2: APR | G2: MAG | H2: GIU | I2: LUG | J2: AGO | K2: SETT | L2: OTT | M2: NOV | N2: DIC | O2: TOT
A3: Campagne di comunicazione realizzate | B3: n. di campagne prodotte | O3: =SUM(Tabella24101112131415[[#This Row],[GEN]:[DIC]]) -> 0
A4: Campagne stampa | B4: n. di publiredazionali | O4: =SUM(Tabella24101112131415[[#This Row],[GEN]:[DIC]]) -> 0
A5: Campagne di web e digital PR | B5: n. di campagne prodotte | O5: =SUM(Tabella24101112131415[[#This Row],[GEN]:[DIC]]) -> 0
A6: Eventi | B6: n. di eventi | O6: =SUM(Tabella24101112131415[[#This Row],[GEN]:[DIC]]) -> 0
A7: Seminari e workshop e webinar | B7: n. di seminari, workshop e webinar | O7: =SUM(Tabella24101112131415[[#This Row],[GEN]:[DIC]]) -> 0
A8: Attività itineranti | B8: n. di roadshow itineranti | O8: =SUM(Tabella24101112131415[[#This Row],[GEN]:[DIC]]) -> 0
A9: Web | B9: n. pagine news web pubblicate su sito del Programma | O9: =SUM(Tabella24101112131415[[#This Row],[GEN]:[DIC]]) -> 0
A10: Social media | B10: n. di account attivati o utilizzati | O10: =SUM(Tabella24101112131415[[#This Row],[GEN]:[DIC]]) -> 0
A11: Social media | B11: n. di messaggi inviati sui diversi canali social (post FB + Tweet + Post IG + Stories) | O11: =SUM(Tabella24101112131415[[#This Row],[GEN]:[DIC]]) -> 0
A12: Materiali informativi, editoriali, promozionali | B12: n. di prodotti realizzati (opuscoli, brochure, pubblicazioni…) | O12: =SUM(Tabella24101112131415[[#This Row],[GEN]:[DIC]]) -> 0
A13: Prodotti audio-video e multimediali | B13: n. di video realizzati | O13: =SUM(Tabella24101112131415[[#This Row],[GEN]:[DIC]]) -> 0
A14: Prodotti audio-video e multimediali | B14: n. di spot radio prodotti | O14: =SUM(Tabella24101112131415[[#This Row],[GEN]:[DIC]]) -> 0
... A18: Relazioni con la stampa | B18: n. di conferenze stampa realizzate | O18: =SUM(Tabella24101112131415[[#This Row],[GEN]:[DIC]]) -> 0
C19: =SUBTOTAL(109,Tabella24101112131415[GEN]) -> 0 | D19: =SUBTOTAL(109,Tabella24101112131415[FEB]) -> 0 | E19: =SUBTOTAL(109,Tabella24101112131415[MAR]) -> 0 | F19: =SUBTOTAL(109,Tabella24101112131415[APR]) -> 0 | G19: =SUBTOTAL(109,Tabella24101112131415[MAG]) -> 0 | H19: =SUBTOTAL(109,Tabella24101112131415[GIU]) -> 0 | I19: =SUBTOTAL(109,Tabella24101112131415[LUG]) -> 0 | J19: =SUBTOTAL(109,Tabella24101112131415[AGO]) -> 0 | K19: =SUBTOTAL(109,Tabella24101112131415[SETT]) -> 0 | L19: =SUBTOTAL(109,Tabella24101112131415[OTT]) -> 0 | M19: =SUBTOTAL(109,Tabella24101112131415[NOV]) -> 0 | N19: =SUBTOTAL(109,Tabella24101112131415[DIC]) -> 0 | P19: =SUM(Tabella24101112131415[[#Totals],[GEN]:[DIC]]) -> 0

Sheet Matrice Generale - TOTAL
B1: ISOCOM_1IT - Iniziative e prodotti di comunicazione, informazione e visibilità realizzati
A2: AZIONE/STRUMENTO | B2: INDCATORE DI OUTPUT | C2: 2023 | D2: 2024 | E2: 2025 | F2: 2026 | G2: 2027 | H2: 2028 | I2: 2029
A3: Campagne di comunicazione realizzate | B3: n. di campagne prodotte | C3: ='ISOCOM_1IT - 2023'!O3 -> 0 | D3: ='ISOCOM_1IT - 2024'!O3 -> 0 | E3: ='ISOCOM_1IT - 2025'!O3 -> 0 | F3: ='ISOCOM_1IT - 2026'!O3 -> 0 | G3: ='ISOCOM_1IT - 2027'!O3 -> 0 | H3: ='ISOCOM_1IT - 2028'!O3 -> 0 | I3: ='ISOCOM_1IT - 2029'!O3 -> 0 | J3: =SUM(Tabella242356789[[#This Row],[2023]:[2029]]) -> 0
A4: Campagne stampa | B4: n. di publiredazionali | C4: ='ISOCOM_1IT - 2023'!O4 -> 0 | D4: ='ISOCOM_1IT - 2024'!O4 -> 0 | E4: ='ISOCOM_1IT - 2025'!O4 -> 0 | F4: ='ISOCOM_1IT - 2026'!O4 -> 0 | G4: ='ISOCOM_1IT - 2027'!O4 -> 0 | H4: ='ISOCOM_1IT - 2028'!O4 -> 0 | I4: ='ISOCOM_1IT - 2029'!O4 -> 0 | J4: =SUM(Tabella242356789[[#This Row],[2023]:[2029]]) -> 0
A5: Campagne di web e digital PR | B5: n. di campagne prodotte | C5: ='ISOCOM_1IT - 2023'!O5 -> 0 | D5: ='ISOCOM_1IT - 2024'!O5 -> 0 | E5: ='ISOCOM_1IT - 2025'!O5 -> 0 | F5: ='ISOCOM_1IT - 2026'!O5 -> 0 | G5: ='ISOCOM_1IT - 2027'!O5 -> 0 | H5: ='ISOCOM_1IT - 2028'!O5 -> 0 | I5: ='ISOCOM_1IT - 2029'!O5 -> 0
A6: Eventi | B6: n. di eventi | C6: ='ISOCOM_1IT - 2023'!O6 -> 0 | D6: ='ISOCOM_1IT - 2024'!O6 -> 0 | E6: ='ISOCOM_1IT - 2025'!O6 -> 0 | F6: ='ISOCOM_1IT - 2026'!O6 -> 0 | G6: ='ISOCOM_1IT - 2027'!O6 -> 0 | H6: ='ISOCOM_1IT - 2028'!O6 -> 0 | I6: ='ISOCOM_1IT - 2029'!O6 -> 0 | J6: =SUM(Tabella242356789[[#This Row],[2023]:[2029]]) -> 0
A7: Seminari e workshop e webinar | B7: n. di seminari, workshop e webinar | C7: ='ISOCOM_1IT - 2023'!O7 -> 0 | D7: ='ISOCOM_1IT - 2024'!O7 -> 0 | E7: ='ISOCOM_1IT - 2025'!O7 -> 0 | F7: ='ISOCOM_1IT - 2026'!O7 -> 0 | G7: ='ISOCOM_1IT - 2027'!O7 -> 0 | H7: ='ISOCOM_1IT - 2028'!O7 -> 0 | I7: ='ISOCOM_1IT - 2029'!O7 -> 0 | J7: =SUM(Tabella242356789[[#This Row],[2023]:[2029]]) -> 0
A8: Attività itineranti | B8: n. di roadshow itineranti | C8: ='ISOCOM_1IT - 2023'!O8 -> 0 | D8: ='ISOCOM_1IT - 2024'!O8 -> 0 | E8: ='ISOCOM_1IT - 2025'!O8 -> 0 | F8: ='ISOCOM_1IT - 2026'!O8 -> 0 | G8: ='ISOCOM_1IT - 2027'!O8 -> 0 | H8: ='ISOCOM_1IT - 2028'!O8 -> 0 | I8: ='ISOCOM_1IT - 2029'!O8 -> 0 | J8: =SUM(Tabella242356789[[#This Row],[2023]:[2029]]) -> 0
A9: Web | B9: n. pagine news web pubblicate su sito del Programma | C9: ='ISOCOM_1IT - 2023'!O9 -> 0 | D9: ='ISOCOM_1IT - 2024'!O9 -> 0 | E9: ='ISOCOM_1IT - 2025'!O9 -> 0 | F9: ='ISOCOM_1IT - 2026'!O9 -> 0 | G9: ='ISOCOM_1IT - 2027'!O9 -> 0 | H9: ='ISOCOM_1IT - 2028'!O9 -> 0 | I9: ='ISOCOM_1IT - 2029'!O9 -> 0 | J9: =SUM(Tabella242356789[[#This Row],[2023]:[2029]]) -> 0
A10: Social media | B10: n. di account attivati o utilizzati | C10: ='ISOCOM_1IT - 2023'!O10 -> 0 | D10: ='ISOCOM_1IT - 2024'!O10 -> 0 | E10: ='ISOCOM_1IT - 2025'!O10 -> 0 | F10: ='ISOCOM_1IT - 2026'!O10 -> 0 | G10: ='ISOCOM_1IT - 2027'!O10 -> 0 | H10: ='ISOCOM_1IT - 2028'!O10 -> 0 | I10: ='ISOCOM_1IT - 2029'!O10 -> 0 | J10: =SUM(Tabella242356789[[#This Row],[2023]:[2029]]) -> 0
A11: Social media | B11: n. di messaggi inviati sui diversi canali social (post FB + Tweet + Post IG + Stories) | C11: ='ISOCOM_1IT - 2023'!O11 -> 0 | D11: ='ISOCOM_1IT - 2024'!O11 -> 0 | E11: ='ISOCOM_1IT - 2025'!O11 -> 0 | F11: ='ISOCOM_1IT - 2026'!O11 -> 0 | G11: ='ISOCOM_1IT - 2027'!O11 -> 0 | H11: ='ISOCOM_1IT - 2028'!O11 -> 0 | I11: ='ISOCOM_1IT - 2029'!O11 -> 0 | J11: =SUM(Tabella242356789[[#This Row],[2023]:[2029]]) -> 0
A12: Materiali informativi, editoriali, promozionali | B12: n. di prodotti realizzati (opuscoli, brochure, pubblicazioni…) | C12: ='ISOCOM_1IT - 2023'!O12 -> 0 | D12: ='ISOCOM_1IT - 2024'!O12 -> 0 | E12: ='ISOCOM_1IT - 2025'!O12 -> 0 | F12: ='ISOCOM_1IT - 2026'!O12 -> 0 | G12: ='ISOCOM_1IT - 2027'!O12 -> 0 | H12: ='ISOCOM_1IT - 2028'!O12 -> 0 | I12: ='ISOCOM_1IT - 2029'!O12 -> 0 | J12: =SUM(Tabella242356789[[#This Row],[2023]:[2029]]) -> 0
A13: Prodotti audio-video e multimediali | B13: n. di video realizzati | C13: ='ISOCOM_1IT - 2023'!O13 -> 0 | D13: ='ISOCOM_1IT - 2024'!O13 -> 0 | E13: ='ISOCOM_1IT - 2025'!O13 -> 0 | F13: ='ISOCOM_1IT - 2026'!O13 -> 0 | G13: ='ISOCOM_1IT - 2027'!O13 -> 0 | H13: ='ISOCOM_1IT - 2028'!O13 -> 0 | I13: ='ISOCOM_1IT - 2029'!O13 -> 0 | J13: =SUM(Tabella242356789[[#This Row],[2023]:[2029]]) -> 0
A14: Prodotti audio-video e multimediali | B14: n. di spot radio prodotti | C14: ='ISOCOM_1IT - 2023'!O14 -> 0 | D14: ='ISOCOM_1IT - 2024'!O14 -> 0 | E14: ='ISOCOM_1IT - 2025'!O14 -> 0 | F14: ='ISOCOM_1IT - 2026'!O14 -> 0 | G14: ='ISOCOM_1IT - 2027'!O14 -> 0 | H14: ='ISOCOM_1IT - 2028'!O14 -> 0 | I14: ='ISOCOM_1IT - 2029'!O14 -> 0 | J14: =SUM(Tabella242356789[[#This Row],[2023]:[2029]]) -> 0
A15: Prodotti audio-video e multimediali | B15: n. di prodotti multimediali/motion graphic realizzate | C15: ='ISOCOM_1IT - 2023'!O15 -> 0 | D15: ='ISOCOM_1IT - 2024'!O15 -> 0 | E15: ='ISOCOM_1IT - 2025'!O15 -> 0 | F15: ='ISOCOM_1IT - 2026'!O15 -> 0 | G15: ='ISOCOM_1IT - 2027'!O15 -> 0 | H15: ='ISOCOM_1IT - 2028'!O15 -> 0 | I15: ='ISOCOM_1IT - 2029'!O15 -> 0 | J15: =SUM(Tabella242356789[[#This Row],[2023]:[2029]]) -> 0
A16: Prodotti audio-video e multimediali | B16: n. di streaming/podcast realizzati | C16: ='ISOCOM_1IT - 2023'!O16 -> 0 | D16: ='ISOCOM_1IT - 2024'!O16 -> 0 | E16: ='ISOCOM_1IT - 2025'!O16 -> 0 | F16: ='ISOCOM_1IT - 2026'!O16 -> 0 | G16: ='ISOCOM_1IT - 2027'!O16 -> 0 | H16: ='ISOCOM_1IT - 2028'!O16 -> 0 | I16: ='ISOCOM_1IT - 2029'!O16 -> 0 | J16: =SUM(Tabella242356789[[#This Row],[2023]:[2029]]) -> 0
A17: Relazioni con la stampa | B17: n. di comunicati stampa diffusi | C17: ='ISOCOM_1IT - 2023'!O17 -> 0 | D17: ='ISOCOM_1IT - 2024'!O17 -> 0 | E17: ='ISOCOM_1IT - 2025'!O17 -> 0 | F17: ='ISOCOM_1IT - 2026'!O17 -> 0 | G17: ='ISOCOM_1IT - 2027'!O17 -> 0 | H17: ='ISOCOM_1IT - 2028'!O17 -> 0 | I17: ='ISOCOM_1IT - 2029'!O17 -> 0 | J17: =SUM(Tabella242356789[[#This Row],[2023]:[2029]]) -> 0
A18: Relazioni con la stampa | B18: n. di conferenze stampa realizzate | C18: ='ISOCOM_1IT - 2023'!O18 -> 0 | D18: ='ISOCOM_1IT - 2024'!O18 -> 0 | E18: ='ISOCOM_1IT - 2025'!O18 -> 0 | F18: ='ISOCOM_1IT - 2026'!O18 -> 0 | G18: ='ISOCOM_1IT - 2027'!O18 -> 0 | H18: ='ISOCOM_1IT - 2028'!O18 -> 0 | I18: ='ISOCOM_1IT - 2029'!O18 -> 0 | J18: =SUM(Tabella242356789[[#This Row],[2023]:[2029]]) -> 0
C19: =SUBTOTAL(109,Tabella242356789[2023]) -> 0 | D19: =SUBTOTAL(109,Tabella242356789[2024]) -> 0 | E19: =SUBTOTAL(109,Tabella242356789[2025]) -> 0 | F19: =SUBTOTAL(109,Tabella242356789[2026]) -> 0 | G19: =SUBTOTAL(109,Tabella242356789[2027]) -> 0 | H19: =SUBTOTAL(109,Tabella242356789[2028]) -> 0 | I19: =SUBTOTAL(109,Tabella242356789[2029]) -> 0 | K19: =SUM(C19:J19) -> 0

Sheet Metadati
A1: Codice Indicatore | B1: Indicatore | C1: Voce | D1: Descrizione
A2: ISOCOM_1IT | B2: Iniziative e prodotti di comunicazione, informazione e visibilità realizzati | C2: n. di campagne prodotte | D2: Numero di soggetti prodotti per campagne di comunicazione integrate o singole (campagne web, campagne tv, campagne radio, campagne outdoor etc). Il valore non contempla il numero di passaggi per ciascun mezzo
C3: n. di publiredazionali | D3: Numero di pubiredazionali prodotti (il valore non contepla il numero di uscite e spazi acquisatti o il numero di copie diffuse)
C4: n. di eventi | D4: Numero di eventi in presenza o ibridi organizzati (il valore non contempla il numero di partecipanti)
C5: n. di seminari, workshop e webinar | D5: Numero di seminari workshop (in presenza o ibridi) e di webinar organizzati (il valore non contempla il numero di partecipanti)
C6: n. di roadshow itineranti | D6: Numero di incontri itineranti sul territorio organizzati (il valore contempla il numero di tappe, ma non contempla il numero di partecipanti)
C7: n. pagine news web pubblicate su sito del Programma | D7: Numero degli articolo pubblicati sul sito web del Programma (il valore non contempla visualizzazioni, visitatori unici etc)
C8: n. di account attivati o utilizzati | D8: Numero degli account social attivati, ribrandizzati o utilizzati (qualora si utilizzino account istituzionali dell'organizzazione titolare) per la comunicazione del PR/PN
C9: n. di messaggi inviati sui diversi canali social (post FB + Tweet + Post IG + Stories) | D9: Numero di post suu FB + Nuero di Tweet + Numero di Post e Stories IG.( Il valore non contempla i retweet, i link, i follower e le interazioni di qualsiasi natura)
C10: n. di prodotti realizzati (opuscoli, brochure, pubblicazioni…) | D10: Numero di opuscoli, leaflet, brochure, pubblicazioni, cataloghi, newslter etc (sia digitali che cartacei) realizzati. (Il valore non contempla il numero delle copie diffuse e/o lette, ma solo il numero dei prodotti rilasciati)
C11: n. di video realizzati | D11: Numero di video, videointerviste, spot tv/web realizzati (il valore non contempla il numero di visualizzazioni o di passaggi in caso di spot tv)
C12: n. di spot radio prodotti | D12: Numero di spot radio prodotti (il valore non contempla il numero di ascoltatori, di passaggi radio etc)
C13: n. di prodotti multimediali/motion graphic realizzate | D13: Numero di prodotti multimediali (es. motion graphic) diversi dai video, dagli spot, dalle videointerviste. (il valore non contempla il numero di visualizzazioni)
C14: n. di streaming/podcast realizzati | D14: Numero di streaming realizzati e/o di podcast realizzati (il valore non contempla il numero di visualizzazioni)
... C16: n. di conferenze stampa realizzate | D16: Numero di conferenze stampa organizzate e realizzate (il valore non contempla il numero di giornalisti coinvolti)
