Workbook

Sheet Pubblico Base
A1: PUBBLICO BASE | B1: ISRCOM_1IT - Grado di interazione con i contenuti digitali del Programma
A2: Canale | B2: 2023 | C2: 2024 | D2: 2025 | E2: 2026 | F2: 2027 | G2: 2028 | H2: 2029
A3: Follower Twitter/X | B3: * | C3: * | D3: * | E3: * | F3: * | G3: * | H3: *
A4: Follower Facebook | B4: * | C4: * | D4: * | E4: * | F4: * | G4: * | H4: *
A5: Follower Instagram | B5: * | C5: * | D5: * | E5: * | F5: * | G5: * | H5: *
A6: Follower/Collegamenti Linkedin | B6: * | C6: * | D6: * | E6: * | F6: * | G6: * | H6: *
A7: Follower Youtube | B7: * | C7: * | D7: * | E7: * | F7: * | G7: * | H7: *
A8: Iscritti newsletter digitale | B8: * | C8: * | D8: * | E8: * | F8: * | G8: * | H8: *
A9: Visitatori unici sito web del Programma | B9: * | C9: * | D9: * | E9: * | F9: * | G9: * | H9: *
A10: Totale | B10: =SUBTOTAL(109,B3:B9) -> 0 | C10: =SUBTOTAL(109,C3:C9) -> 0 | D10: =SUBTOTAL(109,D3:D9) -> 0 | E10: =SUBTOTAL(109,E3:E9) -> 0 | F10: =SUBTOTAL(109,F3:F9) -> 0 | G10: =SUBTOTAL(109,G3:G9) -> 0 | H10: =SUBTOTAL(109,H3:H9) -> 0
A12: *Inserire il valore del dato così come restituito dalla piattaforma di insight/Analytics del canale alla data del 31/12 di ciascuna annualità

Sheet Content
A1: CONTENUTI BASE | B1: ISRCOM_1IT - Grado di interazione con i contenuti digitali del Programma
A2: Canale | B2: 2023 | C2: 2024 | D2: 2025 | E2: 2026 | F2: 2027 | G2: 2028 | H2: 2029
A3: N. Tweet | B3: * | C3: * | D3: * | E3: * | F3: * | G3: * | H3: *
A4: N. Post Instagram | B4: * | C4: * | D4: * | E4: * | F4: * | G4: * | H4: *
A5: N. di stories Instagram | B5: * | C5: * | D5: * | E5: * | F5: * | G5: * | H5: *
A6: N. Post Facebook | B6: * | C6: * | D6: * | E6: * | F6: * | G6: * | H6: *
A7: N. di stories Facebook | B7: * | C7: * | D7: * | E7: * | F7: * | G7: * | H7: *
A8: N. Video su Youtube | B8: * | C8: * | D8: * | E8: * | F8: * | G8: * | H8: *
A9: N. newsletter invate | B9: * | C9: * | D9: * | E9: * | F9: * | G9: * | H9: *
A10: N. News sito web | B10: * | C10: * | D10: * | E10: * | F10: * | G10: * | H10: *
A11: Totale | B11: =SUBTOTAL(109,B3:B10) -> 0 | C11: =SUBTOTAL(109,C3:C10) -> 0 | D11: =SUBTOTAL(109,D3:D10) -> 0 | E11: =SUBTOTAL(109,E3:E10) -> 0 | F11: =SUBTOTAL(109,F3:F10) -> 0 | G11: =SUBTOTAL(109,G3:G10) -> 0 | H11: =SUBTOTAL(109,H3:H10) -> 0 | I11: =SUM(Tabella224[[#This Row],[2023]:[2029]]) -> 0
A12: Valore di ponderazione | B12: =((B11*'Pubblico Base'!B10)/Interazioni!B16)/100 -> #DIV/0! | C12: =((C11*'Pubblico Base'!C10)/Interazioni!C16)/100 -> #DIV/0! | D12: =((D11*'Pubblico Base'!D10)/Interazioni!D16)/100 -> #DIV/0! | E12: =((E11*'Pubblico Base'!E10)/Interazioni!E16)/100 -> #DIV/0! | F12: =((F11*'Pubblico Base'!F10)/Interazioni!F16)/100 -> #DIV/0! | G12: =((G11*'Pubblico Base'!G10)/Interazioni!G16)/100 -> #DIV/0! | H12: =((H11*'Pubblico Base'!H10)/Interazioni!H16)/100 -> #DIV/0!
A14: *Inserire il valore relativo alla singola annualità e non cumulato con le annualità precedenti

Sheet Interazioni
A1: INTERAZIONI | B1: ISRCOM_1IT - Grado di interazione con i contenuti digitali del Programma
A2: Canale | B2: 2023 | C2: 2024 | D2: 2025 | E2: 2026 | F2: 2027 | G2: 2028 | H2: 2029
A3: Visualizzazioni su Youtube | B3: * | C3: * | D3: * | E3: * | F3: * | G3: * | H3: *
A4: Like su Youtube | B4: * | C4: * | D4: * | E4: * | F4: * | G4: * | H4: *
A5: Visualizzazioni dei video post su Instagram | B5: * | C5: * | D5: * | E5: * | F5: * | G5: * | H5: *
A6: Visualizzazioni stories/Reel su Instagram | B6: * | C6: * | D6: * | E6: * | F6: * | G6: * | H6: *
A7: Like+commenti Post Instagram | B7: * | C7: * | D7: * | E7: * | F7: * | G7: * | H7: *
A8: Like Stories/Reel Instagram | B8: * | C8: * | D8: * | E8: * | F8: * | G8: * | H8: *
A9: Visualizzazioni post Facebook | B9: * | C9: * | D9: * | E9: * | F9: * | G9: * | H9: *
A10: Visualizzazioni stories Facebook | B10: * | C10: * | D10: * | E10: * | F10: * | G10: * | H10: *
A11: Like+commenti Post Facebook | B11: * | C11: * | D11: * | E11: * | F11: * | G11: * | H11: *
A12: Like Stories Facebook | B12: * | C12: * | D12: * | E12: * | F12: * | G12: * | H12: *
A13: Reaction/Commenti/Condivisioni Twitter/X | B13: * | C13: * | D13: * | E13: * | F13: * | G13: * | H13: *
... A15: Download da sito web | B15: * | C15: * | D15: * | E15: * | F15: * | G15: * | H15: *
A16: Totale | B16: =SUBTOTAL(109,B3:B15) -> 0 | C16: =SUBTOTAL(109,C3:C15) -> 0 | D16: =SUBTOTAL(109,D3:D15) -> 0 | E16: =SUBTOTAL(109,E3:E15) -> 0 | F16: =SUBTOTAL(109,F3:F15) -> 0 | G16: =SUBTOTAL(109,G3:G15) -> 0 | H16: =SUBTOTAL(109,H3:H15) -> 0
A18: *Inserire il valore relativo alla singola annualità e non cumulato con le annualità precedenti

Sheet ISRCOM_1IT
B1: ISRCOM_1IT - Grado di interazione con i contenuti digitali del Programma
A2: Anno | B2: VALORE ISRCOM | C2: VALORE PONDERATO PER SINGOLO UTENTE
A3: 2023 | B3: =Interazioni!B16/'Pubblico Base'!B10 -> #DIV/0! | C3: =(Interazioni!B16/'Pubblico Base'!B10)*Content!B12 -> #DIV/0!
A4: 2024 | B4: =Interazioni!C16/'Pubblico Base'!C10 -> #DIV/0! | C4: =(Interazioni!C16/'Pubblico Base'!C10)*Content!C12 -> #DIV/0!
A5: 2025 | B5: =Interazioni!D16/'Pubblico Base'!D10 -> #DIV/0! | C5: =(Interazioni!D16/'Pubblico Base'!D10)*Content!D12 -> #DIV/0!
A6: 2026 | B6: =Interazioni!E16/'Pubblico Base'!E10 -> #DIV/0! | C6: =(Interazioni!E16/'Pubblico Base'!E10)*Content!E12 -> #DIV/0!
A7: 2027 | B7: =Interazioni!F16/'Pubblico Base'!F10 -> #DIV/0! | C7: =(Interazioni!F16/'Pubblico Base'!F10)*Content!F12 -> #DIV/0!
A8: 2028 | B8: =Interazioni!G16/'Pubblico Base'!G10 -> #DIV/0! | C8: =(Interazioni!G16/'Pubblico Base'!G10)*Content!G12 -> #DIV/0!
A9: 2029 | B9: =Interazioni!H16/'Pubblico Base'!H10 -> #DIV/0! | C9: =(Interazioni!H16/'Pubblico Base'!H10)*Content!H12 -> #DIV/0!
B11: =AVERAGE(Tabella2[VALORE ISRCOM]) -> #DIV/0! | C11: =AVERAGE(Tabella2[VALORE PONDERATO PER SINGOLO UTENTE]) -> #DIV/0!
B12: TASSO MEDIO | C12: TASSO MEDIO PONDERATO
